BEGIN:VCALENDAR
VERSION:2.0
PRODID:-//MIIS - ECPv6.2.6//NONSGML v1.0//EN
CALSCALE:GREGORIAN
METHOD:PUBLISH
X-ORIGINAL-URL:https://nanaimoaa.org
X-WR-CALDESC:Events for MIIS
REFRESH-INTERVAL;VALUE=DURATION:PT1H
X-Robots-Tag:noindex
X-PUBLISHED-TTL:PT1H
BEGIN:VTIMEZONE
TZID:America/Los_Angeles
BEGIN:DAYLIGHT
TZOFFSETFROM:-0800
TZOFFSETTO:-0700
TZNAME:PDT
DTSTART:20250309T100000
END:DAYLIGHT
BEGIN:STANDARD
TZOFFSETFROM:-0700
TZOFFSETTO:-0800
TZNAME:PST
DTSTART:20251102T090000
END:STANDARD
END:VTIMEZONE
BEGIN:VEVENT
DTSTART;TZID=America/Los_Angeles:20251206T153000
DTEND;TZID=America/Los_Angeles:20251206T173000
DTSTAMP:20260423T042216
CREATED:20251115T194153Z
LAST-MODIFIED:20251115T194153Z
UID:25093-1765035000-1765042200@nanaimoaa.org
SUMMARY:District 6 AA & Alanon Christmas Dinner & Potluck
DESCRIPTION:December 6th\nDoors:3:30pm Dinner: 5:30pm\nLocation: St. Stephens 150 Wallace Way\, QB\nAA and Alanon Christmas Dinner and Potluck
URL:https://nanaimoaa.org/event/district-6-aa-alanon-christmas-dinner-potluck/
LOCATION:St. Stephens\, 150 Wallace Way\, Qualicum Beach\, BC\, V9K 2L6\, Canada
END:VEVENT
BEGIN:VEVENT
DTSTART;TZID=America/Los_Angeles:20251207T163000
DTEND;TZID=America/Los_Angeles:20251207T200000
DTSTAMP:20260423T042216
CREATED:20251115T193820Z
LAST-MODIFIED:20251115T193820Z
UID:25088-1765125000-1765137600@nanaimoaa.org
SUMMARY:District 6 Holiday Pot Luck & Skating Party
DESCRIPTION:  \nDoors: 4:30pm Skating: 8pm\nLocation: 4255 Wallace St.\, Port Alberni\nHoliday Potluck and Skating Party
URL:https://nanaimoaa.org/event/district-6-holiday-pot-luck-skating-party/
LOCATION:Port Alberni Lawn Bowling Club\, 4255 Wallace Street\, Port Alberni\, BC\, V9Y 3Y6\, Canada
END:VEVENT
BEGIN:VEVENT
DTSTART;TZID=America/Los_Angeles:20251224T130000
DTEND;TZID=America/Los_Angeles:20251225T140000
DTSTAMP:20260423T042216
CREATED:20241215T153307Z
LAST-MODIFIED:20251224T054800Z
UID:24001-1766581200-1766671200@nanaimoaa.org
SUMMARY:2025 Nanaimo AA Alcathon
DESCRIPTION:2025 Nanaimo Alcathon v2\nCome out and join in person or online for 24 hours of meetings\, food and fellowship. \nThe meeting schedules are available here:  Alcathon Meeting Page \nClick here for a printable poster: Alcathon Poster \nLog in via Zoom here:  Zoom Meeting \nZoom Meeting: https://us02web.zoom.us/j/3659402175 \nZoom passcode: 02092000
URL:https://nanaimoaa.org/event/2024-nanaimo-aa-alcathon/
LOCATION:Nanaimo Alano Club\, 321Wallace Street # 206\, Nanaimo\, BC\, V9S 5B6\, Canada
END:VEVENT
END:VCALENDAR