BEGIN:VCALENDAR
VERSION:2.0
PRODID:-//MIIS - ECPv6.2.6//NONSGML v1.0//EN
CALSCALE:GREGORIAN
METHOD:PUBLISH
X-WR-CALNAME:MIIS
X-ORIGINAL-URL:https://nanaimoaa.org
X-WR-CALDESC:Events for MIIS
REFRESH-INTERVAL;VALUE=DURATION:PT1H
X-Robots-Tag:noindex
X-PUBLISHED-TTL:PT1H
BEGIN:VTIMEZONE
TZID:America/Los_Angeles
BEGIN:DAYLIGHT
TZOFFSETFROM:-0800
TZOFFSETTO:-0700
TZNAME:PDT
DTSTART:20250309T100000
END:DAYLIGHT
BEGIN:STANDARD
TZOFFSETFROM:-0700
TZOFFSETTO:-0800
TZNAME:PST
DTSTART:20251102T090000
END:STANDARD
END:VTIMEZONE
BEGIN:VEVENT
DTSTART;TZID=America/Los_Angeles:20251019T113000
DTEND;TZID=America/Los_Angeles:20251019T153000
DTSTAMP:20260423T085122
CREATED:20250930T143140Z
LAST-MODIFIED:20250930T143915Z
UID:24865-1760873400-1760887800@nanaimoaa.org
SUMMARY:District 4 Workshop: Sponsorship
DESCRIPTION:SUNDAY\, OCTOBER 19\n11:30 AM – 3:30 PM\nST. GEORGES UNITED CHURCH\n505 – 6TH STREET\, COURTENAY\nAREA PUBLIC INFORMATION CHAIR\, JOANNE C\, FACILITATOR\nPOTLUCK SNACKS APPRECIATED\nCOFFEE AND TEA PROVIDED\nSPONSORED BY DISTRICT 4\nFOR MORE INFORMATION\, CONTACT ROSE AT 250 702 3305 \nspon poster version 1
URL:https://nanaimoaa.org/event/district-4-workshop-sponsorship/
LOCATION:St. George United Church\, 505-6th Street\, Courtenay\, BC\, V9N 1M5\, Canada
END:VEVENT
BEGIN:VEVENT
DTSTART;TZID=America/Los_Angeles:20251024T170000
DTEND;TZID=America/Los_Angeles:20251025T210000
DTSTAMP:20260423T085122
CREATED:20250821T210358Z
LAST-MODIFIED:20250822T140800Z
UID:24800-1761325200-1761426000@nanaimoaa.org
SUMMARY:Cowichan AA Rally in the Valley
DESCRIPTION:“OUR PRIMARY PURPOSE” \nFri/Sat October 24-25 \nSee poster for details: \nRally Poster final 2\n 
URL:https://nanaimoaa.org/event/cowichan-aa-rally-in-the-valley/
LOCATION:Eagles Hall\, 2965 Boys Rd\, Duncan\, BC\, V9L 6W4\, Canada
END:VEVENT
BEGIN:VEVENT
DTSTART;TZID=America/Los_Angeles:20251025T120000
DTEND;TZID=America/Los_Angeles:20251025T160000
DTSTAMP:20260423T085122
CREATED:20250924T141930Z
LAST-MODIFIED:20250924T141930Z
UID:24853-1761393600-1761408000@nanaimoaa.org
SUMMARY:District 6 AA Workshop
DESCRIPTION:
URL:https://nanaimoaa.org/event/district-6-aa-workshop/
LOCATION:Shelly Hall\, 186 Shelly Road\, Parksville\, BC\, V9P 1T7\, Canada
END:VEVENT
END:VCALENDAR