BEGIN:VCALENDAR
VERSION:2.0
PRODID:-//MIIS - ECPv6.2.6//NONSGML v1.0//EN
CALSCALE:GREGORIAN
METHOD:PUBLISH
X-ORIGINAL-URL:https://nanaimoaa.org
X-WR-CALDESC:Events for MIIS
REFRESH-INTERVAL;VALUE=DURATION:PT1H
X-Robots-Tag:noindex
X-PUBLISHED-TTL:PT1H
BEGIN:VTIMEZONE
TZID:America/Los_Angeles
BEGIN:DAYLIGHT
TZOFFSETFROM:-0800
TZOFFSETTO:-0700
TZNAME:PDT
DTSTART:20250309T100000
END:DAYLIGHT
BEGIN:STANDARD
TZOFFSETFROM:-0700
TZOFFSETTO:-0800
TZNAME:PST
DTSTART:20251102T090000
END:STANDARD
END:VTIMEZONE
BEGIN:VEVENT
DTSTART;TZID=America/Los_Angeles:20250216T130000
DTEND;TZID=America/Los_Angeles:20250216T150000
DTSTAMP:20260425T211311
CREATED:20250214T175919Z
LAST-MODIFIED:20250214T175919Z
UID:24320-1739710800-1739718000@nanaimoaa.org
SUMMARY:District 6 Monthly Meeting
DESCRIPTION:Echo Fieldhouse\, Port Alberni \nZoom ID: 853 7349 8475 \nPassword: rule62
URL:https://nanaimoaa.org/event/district-6-monthly-meeting-2/
LOCATION:Echo Field House\, 4200 King Street\, Port Alberni\, BC\, V9Y 0B1\, Canada
END:VEVENT
BEGIN:VEVENT
DTSTART;TZID=America/Los_Angeles:20250220T173000
DTEND;TZID=America/Los_Angeles:20250220T190000
DTSTAMP:20260425T211311
CREATED:20250128T162347Z
LAST-MODIFIED:20250217T141831Z
UID:24258-1740072600-1740078000@nanaimoaa.org
SUMMARY:MIIS Newsletter Committee Meeting
DESCRIPTION:Mid-Island Intergroup is spearheading a monthly newsletter and looking for volunteers to assist in any way possible.  This could be content\, layout or general feedback. \nThis initial meeting will be to establish the committee and general foundational principles of the letter: \n\nContent\nDistribution method(s)\nCadence\netc.\n\nPlease feel free to join in-person or on-line \nZoom link\nPassword: Intergroup
URL:https://nanaimoaa.org/event/miis-newsletter-committee-meeting/
LOCATION:Country Grocer Bowen\, 1800 Duffering Cres\, Nanaimo\, BC\, V9S 0A9\, Canada
END:VEVENT
END:VCALENDAR