BEGIN:VCALENDAR
VERSION:2.0
PRODID:-//MIIS - ECPv6.2.6//NONSGML v1.0//EN
CALSCALE:GREGORIAN
METHOD:PUBLISH
X-ORIGINAL-URL:https://nanaimoaa.org
X-WR-CALDESC:Events for MIIS
REFRESH-INTERVAL;VALUE=DURATION:PT1H
X-Robots-Tag:noindex
X-PUBLISHED-TTL:PT1H
BEGIN:VTIMEZONE
TZID:America/Los_Angeles
BEGIN:DAYLIGHT
TZOFFSETFROM:-0800
TZOFFSETTO:-0700
TZNAME:PDT
DTSTART:20250309T100000
END:DAYLIGHT
BEGIN:STANDARD
TZOFFSETFROM:-0700
TZOFFSETTO:-0800
TZNAME:PST
DTSTART:20251102T090000
END:STANDARD
END:VTIMEZONE
BEGIN:VEVENT
DTSTART;TZID=America/Los_Angeles:20250105T153000
DTEND;TZID=America/Los_Angeles:20250105T173000
DTSTAMP:20260425T181051
CREATED:20240314T155638Z
LAST-MODIFIED:20241215T153539Z
UID:22124-1736091000-1736098200@nanaimoaa.org
SUMMARY:2025 Nanaimo Rally Meeting
DESCRIPTION:Monthly Rally planning meeting.  There are plenty of chair\, co-chair and volunteer spots available. \nAll planning meetings will be held on Sundays from 3:30 to 5:30pm at Nanaimo District Teachers Building – 3137 Barons Road \nFuture Meeting dates:\nJune 9\nSeptember 8\nOctober 6\nNovember 3\nDecember 8\nJanuary 5\nJanuary 12\nJanuary 19\nFebruary 25 wrap up meeting \nRALLY will be held Jan 24-26 th \, 2025. \nVirtual option to attend: \nZoom Link \nMtg ID – 821 6666 5997 \nPassword- Intergroup \n 
URL:https://nanaimoaa.org/event/2025-nanaimo-aa-rally-dec-meeting/
LOCATION:Teachers Association\, 3137 Barons Road\, Nanaimo\, BC\, V9T 5W5\, Canada
END:VEVENT
BEGIN:VEVENT
DTSTART;TZID=America/Los_Angeles:20250112T153000
DTEND;TZID=America/Los_Angeles:20250112T170000
DTSTAMP:20260425T181051
CREATED:20241226T161922Z
LAST-MODIFIED:20250112T221142Z
UID:24070-1736695800-1736701200@nanaimoaa.org
SUMMARY:Nanaimmo AA Rally Planning Meeting - In person only
DESCRIPTION:Monthly Rally planning meeting.  There are plenty of chair\, co-chair and volunteer spots available. \nAll planning meetings will be held on Sundays from 3:30 to 5:30pm at Nanaimo District Teachers Building – 3137 Barons Road \nFuture Meeting dates: \nJanuary 5\nJanuary 12\nJanuary 19\nFebruary 25 wrap up meeting \nRALLY will be held Jan 24-26 th \, 2025. \n  \nNo virtual option this week.
URL:https://nanaimoaa.org/event/nanaimmo-aa-rally-planning-meeting/
LOCATION:Teachers Association\, 3137 Barons Road\, Nanaimo\, BC\, V9T 5W5\, Canada
END:VEVENT
BEGIN:VEVENT
DTSTART;TZID=America/Los_Angeles:20250119T130000
DTEND;TZID=America/Los_Angeles:20250119T150000
DTSTAMP:20260425T181051
CREATED:20250117T185159Z
LAST-MODIFIED:20250117T185159Z
UID:24155-1737291600-1737298800@nanaimoaa.org
SUMMARY:District 6 Monthly Meeting
DESCRIPTION:District 6 Monthly Meeting \nLocation:\nShelly Hall (186 Shelly Rd\, Parksville)\n\nZoom link and info:\n\nhttps://us06web.zoom.us/j/85373498475?pwd=kFa8cFMXx3DRpMRwpXw49PhbGoZClC.1 \nMeeting ID: 853 7349 8475\nPasscode: rule62
URL:https://nanaimoaa.org/event/district-6-monthly-meeting/
LOCATION:Shelly Hall\, 186 Shelly Road\, Parksville\, BC\, V9P 1T7\, Canada
END:VEVENT
BEGIN:VEVENT
DTSTART;TZID=America/Los_Angeles:20250119T153000
DTEND;TZID=America/Los_Angeles:20250119T170000
DTSTAMP:20260425T181051
CREATED:20241226T162022Z
LAST-MODIFIED:20241226T162022Z
UID:24072-1737300600-1737306000@nanaimoaa.org
SUMMARY:Nanaimo AA Rally Planning Meeting
DESCRIPTION:Monthly Rally planning meeting.  There are plenty of chair\, co-chair and volunteer spots available. \nAll planning meetings will be held on Sundays from 3:30 to 5:30pm at Nanaimo District Teachers Building – 3137 Barons Road \nFuture Meeting dates: \nJanuary 5\nJanuary 12\nJanuary 19\nFebruary 25 wrap up meeting \nRALLY will be held Jan 24-26 th \, 2025. \nVirtual option to attend: \nZoom Link \nMtg ID – 821 6666 5997 \nPassword- Intergroup
URL:https://nanaimoaa.org/event/nanaimo-aa-rally-planning-meeting/
LOCATION:Teachers Association\, 3137 Barons Road\, Nanaimo\, BC\, V9T 5W5\, Canada
END:VEVENT
BEGIN:VEVENT
DTSTART;TZID=America/Los_Angeles:20250124T170000
DTEND;TZID=America/Los_Angeles:20250124T183000
DTSTAMP:20260425T181051
CREATED:20241208T154014Z
LAST-MODIFIED:20241208T154014Z
UID:23913-1737738000-1737743400@nanaimoaa.org
SUMMARY:Nanaimo AA 2025 Rally - Friday Night Pot Luck
DESCRIPTION:Join us for a Pot Luck dinner to help kick off the 2025 Rally. \nThe Rally Committee will provide a selection of pizza\, cesear salad and sliced ham\, the rest is up to you! \nWe had a great assortment of hot and cold dishes and amazing desserts last year.  Please bring your favorite dish and the kitchen is available with lots of fridge room and ovens to reheat dishes. \nIf you would like to share what you are brining to help ensure a diverse selection of dishes please click here to sing up: Pot Luck Sign Up Page \nFor more rally info check out the website: www.nanaimoaarally.com. \n 
URL:https://nanaimoaa.org/event/nanaimo-aa-2025-rally-friday-night-pot-luck/
LOCATION:Beban Park Social Centre\, 2300 Bowen Road\, Nanaimo\, BC\, V9T 3K7\, Canada
END:VEVENT
BEGIN:VEVENT
DTSTART;TZID=America/Los_Angeles:20250124T210000
DTEND;TZID=America/Los_Angeles:20250124T220000
DTSTAMP:20260425T181051
CREATED:20241208T154405Z
LAST-MODIFIED:20241208T154405Z
UID:23915-1737752400-1737756000@nanaimoaa.org
SUMMARY:Nanaimo 2025 AA Rally - Ice Cream Social
DESCRIPTION:After a hearty pot luck dinner and an amazing speaker\, cap off the night with our Ice Cream Social. \nLast year sold out so we are prepared with more ice cream\, more cones\, and more toppings this year!
URL:https://nanaimoaa.org/event/nanaimo-2025-aa-rally-ice-cream-social/
LOCATION:Beban Park Social Centre\, 2300 Bowen Road\, Nanaimo\, BC\, V9T 3K7\, Canada
END:VEVENT
BEGIN:VEVENT
DTSTART;TZID=America/Los_Angeles:20250125T120000
DTEND;TZID=America/Los_Angeles:20250125T130000
DTSTAMP:20260425T181051
CREATED:20241208T154911Z
LAST-MODIFIED:20241208T154911Z
UID:23917-1737806400-1737810000@nanaimoaa.org
SUMMARY:Nanaimo 2025 AA Rally - Saturday Lunch
DESCRIPTION:Get some nourishment and fellowship between meetings in the auditorium.  Lunch can be purchased at the event for $10. \nCheck out the Rally page for more details about the schedule of events and speakers. \nwww.nanaimoaarally.com
URL:https://nanaimoaa.org/event/nanaimo-2025-aa-rally-saturday-lunch/
LOCATION:Beban Park Social Centre\, 2300 Bowen Road\, Nanaimo\, BC\, V9T 3K7\, Canada
END:VEVENT
BEGIN:VEVENT
DTSTART;TZID=America/Los_Angeles:20250125T173000
DTEND;TZID=America/Los_Angeles:20250125T190000
DTSTAMP:20260425T181051
CREATED:20241208T155401Z
LAST-MODIFIED:20241208T155401Z
UID:23919-1737826200-1737831600@nanaimoaa.org
SUMMARY:Nanaimo 2025 AA Rally - Saturday Night Banquet Dinner
DESCRIPTION:The Banquet dinner always sells out quickly so get your tickets!  Join us for a fully catered dinner that can be purchased as part of the weekend package or on it’s own. \nJust bring your ticket and your appetetite for a great evening of fellowship followed by our annual sobriety countdown\, 50/50 draw and an amazing speaker. \nMay as well stick around for the evening entertainment afterward to close out the night! \nGet your tickets as well as more rally information here:  www.nanaimoaarally.com \n 
URL:https://nanaimoaa.org/event/nanaimo-2025-aa-rally-saturday-night-banquet-dinner/
LOCATION:Beban Park Social Centre\, 2300 Bowen Road\, Nanaimo\, BC\, V9T 3K7\, Canada
END:VEVENT
BEGIN:VEVENT
DTSTART;TZID=America/Los_Angeles:20250126T083000
DTEND;TZID=America/Los_Angeles:20250126T223000
DTSTAMP:20260425T181051
CREATED:20241208T155644Z
LAST-MODIFIED:20241208T155920Z
UID:23921-1737880200-1737930600@nanaimoaa.org
SUMMARY:Nanaimo 2025 AA Rally - Sunday Breakfast
DESCRIPTION:Help us wind down the amazing weekend with a hearty breakfast put on by local volunteers followed by our final speaker. \nTickets can be purchased seperately for $10 or as part of the weekend package. \nCheck out the website for tickets and more rally details:  www.nanaimoaarally.com
URL:https://nanaimoaa.org/event/nanaimo-2025-aa-rally-sunday-breakfast/
LOCATION:Beban Park Social Centre\, 2300 Bowen Road\, Nanaimo\, BC\, V9T 3K7\, Canada
END:VEVENT
END:VCALENDAR