BEGIN:VCALENDAR
VERSION:2.0
PRODID:-//MIIS - ECPv6.2.6//NONSGML v1.0//EN
CALSCALE:GREGORIAN
METHOD:PUBLISH
X-WR-CALNAME:MIIS
X-ORIGINAL-URL:https://nanaimoaa.org
X-WR-CALDESC:Events for MIIS
REFRESH-INTERVAL;VALUE=DURATION:PT1H
X-Robots-Tag:noindex
X-PUBLISHED-TTL:PT1H
BEGIN:VTIMEZONE
TZID:America/Los_Angeles
BEGIN:DAYLIGHT
TZOFFSETFROM:-0800
TZOFFSETTO:-0700
TZNAME:PDT
DTSTART:20230312T100000
END:DAYLIGHT
BEGIN:STANDARD
TZOFFSETFROM:-0700
TZOFFSETTO:-0800
TZNAME:PST
DTSTART:20231105T090000
END:STANDARD
END:VTIMEZONE
BEGIN:VEVENT
DTSTART;TZID=America/Los_Angeles:20231217T150000
DTEND;TZID=America/Los_Angeles:20231217T160000
DTSTAMP:20260425T091210
CREATED:20231113T175153Z
LAST-MODIFIED:20231113T175153Z
UID:21831-1702825200-1702828800@nanaimoaa.org
SUMMARY:ALCATHON Dec 17 Committee Meeting
DESCRIPTION:Join the committee and find out how you can help with organizing and volunteering during the event. \nWe will be meeting at the boardroom at Country Grocer on Bowen Road. \nYou can sign up for a meeting here: https://nanaimoaa.org/alcathon-3/
URL:https://nanaimoaa.org/event/alcathon-dec-17-committee-meeting/
LOCATION:Country Grocer Bowen\, 1800 Duffering Cres\, Nanaimo\, BC\, V9S 0A9\, Canada
END:VEVENT
BEGIN:VEVENT
DTSTART;TZID=America/Los_Angeles:20231210T130000
DTEND;TZID=America/Los_Angeles:20231210T150000
DTSTAMP:20260425T091210
CREATED:20231208T174850Z
LAST-MODIFIED:20231208T174850Z
UID:21945-1702213200-1702220400@nanaimoaa.org
SUMMARY:District 6 All-Hands meeting
DESCRIPTION:As you may know by now\, we have a very talented and active team working on restoring a working committee in District 6. The next step is to hold an everybody-included meeting to work out filling in some vital service positions and make plans to get things back on track. A working District Committee is essential to having your voice heard and to stay informed on what’s happening around A.A.. You’ll want to be there for this one.\nYou need to know:\n\n\nDate: Sunday\, December 10 (a week from now)\nPlace: Echo Field House\, 4200 King St. Port Alberni\nTime: 1-3 PM (there was some talk earlier of a 10:30 start. It’s now 1:00PM)\nWhat to bring: your curiosity about how this works and enthusiasm to see it succeed.\n\nWe really hope you’ll be able to attend and share your ideas. Any questions\, call\, text or email me and I’ll do my best to help.\n \nSincerely\n\n\n\nAl McLean \nalmcleanis@gmail.com\n250 927-5065
URL:https://nanaimoaa.org/event/district-6-all-hands-meeting/
LOCATION:Echo Field House\, 4200 King Street\, Port Alberni\, BC\, V9Y 0B1\, Canada
END:VEVENT
BEGIN:VEVENT
DTSTART;TZID=America/Los_Angeles:20231126T150000
DTEND;TZID=America/Los_Angeles:20231126T160000
DTSTAMP:20260425T091210
CREATED:20231113T174614Z
LAST-MODIFIED:20231113T174904Z
UID:21825-1701010800-1701014400@nanaimoaa.org
SUMMARY:ALCATHON Nov 26 Committee Meeting
DESCRIPTION:Join the committee and find out how you can help with organizing and volunteering during the event. \nWe will be meeting at the boardroom at Country Grocer on Bowen Road. \nYou can sign up for a meeting here: https://nanaimoaa.org/alcathon-3/ \n 
URL:https://nanaimoaa.org/event/alcathon-committee-meeting/
LOCATION:Country Grocer Bowen\, 1800 Duffering Cres\, Nanaimo\, BC\, V9S 0A9\, Canada
END:VEVENT
BEGIN:VEVENT
DTSTART;TZID=America/Los_Angeles:20231104T090000
DTEND;TZID=America/Los_Angeles:20231104T104500
DTSTAMP:20260425T091210
CREATED:20230606T174524Z
LAST-MODIFIED:20231024T171809Z
UID:21395-1699088400-1699094700@nanaimoaa.org
SUMMARY:Nanaimo 2024 AA Rally Committee meeting
DESCRIPTION:Rally committee planning (hybrid) Meeting. \nNanaimo Alano Club located at 880 Hecate Street. \n9:00am to 10:45am \nZOOM Meeting ID – 821 6666 5997 \nPassword – Intergroup \n  \nIf you want to be of service please attend 🙂  \n  \n*Meeting Dates* \nJuly 8th\, Sept 9th\, Oct 14th\, Nov 4th and Dec 9th. 
URL:https://nanaimoaa.org/event/nanaimo-2024-aa-rally-committee-meeting-4/
LOCATION:Nanaimo Alano Club\, 321Wallace Street # 206\, Nanaimo\, BC\, V9S 5B6\, Canada
END:VEVENT
END:VCALENDAR