BEGIN:VCALENDAR
VERSION:2.0
PRODID:-//MIIS - ECPv6.2.6//NONSGML v1.0//EN
CALSCALE:GREGORIAN
METHOD:PUBLISH
X-WR-CALNAME:MIIS
X-ORIGINAL-URL:https://nanaimoaa.org
X-WR-CALDESC:Events for MIIS
REFRESH-INTERVAL;VALUE=DURATION:PT1H
X-Robots-Tag:noindex
X-PUBLISHED-TTL:PT1H
BEGIN:VTIMEZONE
TZID:America/Los_Angeles
BEGIN:DAYLIGHT
TZOFFSETFROM:-0800
TZOFFSETTO:-0700
TZNAME:PDT
DTSTART:20250309T100000
END:DAYLIGHT
BEGIN:STANDARD
TZOFFSETFROM:-0700
TZOFFSETTO:-0800
TZNAME:PST
DTSTART:20251102T090000
END:STANDARD
BEGIN:DAYLIGHT
TZOFFSETFROM:-0800
TZOFFSETTO:-0700
TZNAME:PDT
DTSTART:20260308T100000
END:DAYLIGHT
BEGIN:STANDARD
TZOFFSETFROM:-0700
TZOFFSETTO:-0800
TZNAME:PST
DTSTART:20261101T090000
END:STANDARD
END:VTIMEZONE
BEGIN:VEVENT
DTSTART;TZID=America/Los_Angeles:20251206T153000
DTEND;TZID=America/Los_Angeles:20251206T173000
DTSTAMP:20260423T054032
CREATED:20251115T194153Z
LAST-MODIFIED:20251115T194153Z
UID:25093-1765035000-1765042200@nanaimoaa.org
SUMMARY:District 6 AA & Alanon Christmas Dinner & Potluck
DESCRIPTION:December 6th\nDoors:3:30pm Dinner: 5:30pm\nLocation: St. Stephens 150 Wallace Way\, QB\nAA and Alanon Christmas Dinner and Potluck
URL:https://nanaimoaa.org/event/district-6-aa-alanon-christmas-dinner-potluck/
LOCATION:St. Stephens\, 150 Wallace Way\, Qualicum Beach\, BC\, V9K 2L6\, Canada
END:VEVENT
BEGIN:VEVENT
DTSTART;TZID=America/Los_Angeles:20251207T163000
DTEND;TZID=America/Los_Angeles:20251207T200000
DTSTAMP:20260423T054032
CREATED:20251115T193820Z
LAST-MODIFIED:20251115T193820Z
UID:25088-1765125000-1765137600@nanaimoaa.org
SUMMARY:District 6 Holiday Pot Luck & Skating Party
DESCRIPTION:  \nDoors: 4:30pm Skating: 8pm\nLocation: 4255 Wallace St.\, Port Alberni\nHoliday Potluck and Skating Party
URL:https://nanaimoaa.org/event/district-6-holiday-pot-luck-skating-party/
LOCATION:Port Alberni Lawn Bowling Club\, 4255 Wallace Street\, Port Alberni\, BC\, V9Y 3Y6\, Canada
END:VEVENT
BEGIN:VEVENT
DTSTART;TZID=America/Los_Angeles:20251224T130000
DTEND;TZID=America/Los_Angeles:20251225T140000
DTSTAMP:20260423T054032
CREATED:20241215T153307Z
LAST-MODIFIED:20251224T054800Z
UID:24001-1766581200-1766671200@nanaimoaa.org
SUMMARY:2025 Nanaimo AA Alcathon
DESCRIPTION:2025 Nanaimo Alcathon v2\nCome out and join in person or online for 24 hours of meetings\, food and fellowship. \nThe meeting schedules are available here:  Alcathon Meeting Page \nClick here for a printable poster: Alcathon Poster \nLog in via Zoom here:  Zoom Meeting \nZoom Meeting: https://us02web.zoom.us/j/3659402175 \nZoom passcode: 02092000
URL:https://nanaimoaa.org/event/2024-nanaimo-aa-alcathon/
LOCATION:Nanaimo Alano Club\, 321Wallace Street # 206\, Nanaimo\, BC\, V9S 5B6\, Canada
END:VEVENT
BEGIN:VEVENT
DTSTART;TZID=America/Los_Angeles:20260118T130000
DTEND;TZID=America/Los_Angeles:20260118T150000
DTSTAMP:20260423T054032
CREATED:20250214T180039Z
LAST-MODIFIED:20260110T234226Z
UID:24322-1768741200-1768748400@nanaimoaa.org
SUMMARY:District 6 January Monthly Meeting
DESCRIPTION:December 21st\nDistrict 6 Monthly District Meeting\n1-3pm Echo Fieldhouse- 4200 Wood Ave\, Port Alberni\nZOOM ID: 853 7349 8475\nPW: rule62\n  \n 
URL:https://nanaimoaa.org/event/district-6-march-monthly-meeting/
LOCATION:Echo Field House\, 4200 King Street\, Port Alberni\, BC\, V9Y 0B1\, Canada
END:VEVENT
BEGIN:VEVENT
DTSTART;TZID=America/Los_Angeles:20260207T130000
DTEND;TZID=America/Los_Angeles:20260207T160000
DTSTAMP:20260423T054032
CREATED:20260110T164658Z
LAST-MODIFIED:20260110T165613Z
UID:25234-1770469200-1770480000@nanaimoaa.org
SUMMARY:District 6 Workshop - Speaking at non-AA Events
DESCRIPTION:February 7th\, 2026 @ 1pm – 4pm\n\nSpeaking at Non AA Events Workshop (CPC/PI)\nShelly Hall (186 Shelly Rd.\, Parksville\n\nLearn how to carry the message of what AA does through Public Information and Cooperation with the Professional Community.\nSpeaking at
URL:https://nanaimoaa.org/event/district-6-workshop-speaking-at-non-aa-events/
LOCATION:Shelly Hall\, 186 Shelly Road\, Parksville\, BC\, V9P 1T7\, Canada
END:VEVENT
BEGIN:VEVENT
DTSTART;TZID=America/Los_Angeles:20260424T170000
DTEND;TZID=America/Los_Angeles:20260426T130000
DTSTAMP:20260423T054032
CREATED:20260315T153620Z
LAST-MODIFIED:20260315T153620Z
UID:25328-1777050000-1777208400@nanaimoaa.org
SUMMARY:Victoria Miracles Rally
DESCRIPTION:Screenshot\nApril 24 – 26 \n$45 Event tickets \n$75 Event and Dinner \nhttps://victoriamiracles.ca/ for more details
URL:https://nanaimoaa.org/event/victoria-miracles-rally/
LOCATION:Leonardo Davinci Center\, 195 Bay Street\, Victoria\, BC\, V9A 3K4\, Canada
END:VEVENT
BEGIN:VEVENT
DTSTART;TZID=America/Los_Angeles:20260425T100000
DTEND;TZID=America/Los_Angeles:20260425T140000
DTSTAMP:20260423T054032
CREATED:20250718T043340Z
LAST-MODIFIED:20260315T160315Z
UID:24685-1777111200-1777125600@nanaimoaa.org
SUMMARY:District 7 2026 Workshop Series Session 1: Heart to Heart: Sharing our Storied\, Strengethening our Connections
DESCRIPTION:District 7 will be running a monthly workshop series touching on topics ranging from general service to working with Intergroup to member requested sessions like meeting safety and using technology. \nThe September Session will be on September 27 and focus on sharing our stories and strengething our connections. \nWorkshop Highlights:\nSharing our stories of experience\, strength and hope \nGratitude in Action \nGiving back through sponsorship\, volunteering and getting involved \n  \nGet involved\, connect with others\, and deepen your service journey.\nPizza Lunch Provided\n– Fuel up and keep the conversations going!\nAA Literature and Information Available\n– Take home valuable resources. \nPlease print the poster and include with your homegroup’s events package
URL:https://nanaimoaa.org/event/district-7-workshop-series-session-3-sponsorship-service-sponsorship-gratitude-in-action/
LOCATION:Nanaimo Alano Club\, 321Wallace Street # 206\, Nanaimo\, BC\, V9S 5B6\, Canada
END:VEVENT
BEGIN:VEVENT
DTSTART;TZID=America/Los_Angeles:20260512T181500
DTEND;TZID=America/Los_Angeles:20260609T193000
DTSTAMP:20260423T054032
CREATED:20230129T165949Z
LAST-MODIFIED:20260421T011232Z
UID:20857-1778609700-1781033400@nanaimoaa.org
SUMMARY:Intergroup May Monthly Meeting with new Rep Hangout Session!!
DESCRIPTION:Monthly Meeting for Intergroup Reps and the Operations Committee.  All members are welcome to observe or ask questions about Integroup services and positions. \nNOTE:  An Integroup Rep Hangout session will be starting at 6pm on Zoom.  This is a great way to just share ideas prior to the meeting without the Operating Committee.  The zoom information is the same as that for the main meeting. \nFor more information about Intergroup click here: \nIntergroup Resource Page \nFor information about some of the specific positions click here: \nLocal service positions \nIn-person meeting at the Country Grocer Bowen Road community room at 1800 Dufferin Cres \nRemote meeting: \nZoom link\nPassword: Intergroup
URL:https://nanaimoaa.org/event/intergroup-meeting-sep-2025/
LOCATION:Coastal Support Services – PARKING & ENTRANCE IN BACK\, 2135 Bowen Road\, Nanaimo\, BC\, V9S1H8\, Canada
CATEGORIES:Intergroup
END:VEVENT
BEGIN:VEVENT
DTSTART;TZID=America/Los_Angeles:20260515T160000
DTEND;TZID=America/Los_Angeles:20260517T120000
DTSTAMP:20260423T054032
CREATED:20260222T171023Z
LAST-MODIFIED:20260222T171023Z
UID:25311-1778860800-1779019200@nanaimoaa.org
SUMMARY:Kamloops 2026 Annual Rally - Acceptance is the Key
DESCRIPTION:2026 Kamloops Poster\nMay 15 – 17 \nHeffley Community Hall \nEarly Bird Tickets: $45 – Dinner included \nRegular Tickets: $50 \nEmail kyro95@hotmail.com for tickets or more info \n 
URL:https://nanaimoaa.org/event/kamloops-2026-annual-rally-acceptance-is-the-key/
LOCATION:Heffley Community Hall\, 6995 Old Hwy 5\, Kamloops\, BC\, V2H 0B8\, Canada
END:VEVENT
BEGIN:VEVENT
DTSTART;TZID=America/Los_Angeles:20260518T173000
DTEND;TZID=America/Los_Angeles:20260518T190000
DTSTAMP:20260423T054032
CREATED:20241005T145551Z
LAST-MODIFIED:20260422T170446Z
UID:23392-1779125400-1779130800@nanaimoaa.org
SUMMARY:District 7 May Monthly Meeting
DESCRIPTION:Please join in-person or online for the monthly District 7 committee meeting. \nThe meeting is in person at First Baptist Church\, 1650 Waddington Road \nJoin online at https://zoom.us/j/8796598601?from=join#success\nZoom ID: 879 659 8601 \nPasscode: 20212021 \nCheck here for a list of positions and job descriptions:  District 7 Open Service Positions \nClick here to submit your monthly GSR Report: GSR Monthly Report Submission
URL:https://nanaimoaa.org/event/district-7-monthly-meeting-and-elections/
LOCATION:First Baptist Church\, 1650 Waddington Road\, Nanaimoa\, BC\, V9S 4W3\, Canada
END:VEVENT
BEGIN:VEVENT
DTSTART;TZID=America/Los_Angeles:20260523T113000
DTEND;TZID=America/Los_Angeles:20260523T133000
DTSTAMP:20260423T054032
CREATED:20250816T142727Z
LAST-MODIFIED:20260422T170626Z
UID:24747-1779535800-1779543000@nanaimoaa.org
SUMMARY:May CPC/PI Luncheon
DESCRIPTION:AA members are invited to our second luncheon on May 23rd from 11:30 to 1:30.  It will include speakers\, a brief film\, a comedic skit\, discussions\, and a pizza lunch.\n\n\nThe location will be at 321 Wallace street. Parking and entrance at the rear of the building. Please RSVP asap because space is limited. \n\n\nSpecial note.  AA members please invite a professional that you may have dealt with.  A doctor\, lawyer\, councellor or community representative you may know.\n\nPlease let us know asap because space is limited.  AA members $20 Professionals FREE
URL:https://nanaimoaa.org/event/professional-community-luncheon/
LOCATION:Nanaimo Alano Club\, 321Wallace Street # 206\, Nanaimo\, BC\, V9S 5B6\, Canada
END:VEVENT
END:VCALENDAR