BEGIN:VCALENDAR
VERSION:2.0
PRODID:-//MIIS - ECPv6.2.6//NONSGML v1.0//EN
CALSCALE:GREGORIAN
METHOD:PUBLISH
X-WR-CALNAME:MIIS
X-ORIGINAL-URL:https://nanaimoaa.org
X-WR-CALDESC:Events for MIIS
REFRESH-INTERVAL;VALUE=DURATION:PT1H
X-Robots-Tag:noindex
X-PUBLISHED-TTL:PT1H
BEGIN:VTIMEZONE
TZID:America/Los_Angeles
BEGIN:DAYLIGHT
TZOFFSETFROM:-0800
TZOFFSETTO:-0700
TZNAME:PDT
DTSTART:20260308T100000
END:DAYLIGHT
BEGIN:STANDARD
TZOFFSETFROM:-0700
TZOFFSETTO:-0800
TZNAME:PST
DTSTART:20261101T090000
END:STANDARD
END:VTIMEZONE
BEGIN:VEVENT
DTSTART;TZID=America/Los_Angeles:20260512T181500
DTEND;TZID=America/Los_Angeles:20260609T193000
DTSTAMP:20260421T110318
CREATED:20230129T165949Z
LAST-MODIFIED:20260421T011232Z
UID:20857-1778609700-1781033400@nanaimoaa.org
SUMMARY:Intergroup May Monthly Meeting with new Rep Hangout Session!!
DESCRIPTION:Monthly Meeting for Intergroup Reps and the Operations Committee.  All members are welcome to observe or ask questions about Integroup services and positions. \nNOTE:  An Integroup Rep Hangout session will be starting at 6pm on Zoom.  This is a great way to just share ideas prior to the meeting without the Operating Committee.  The zoom information is the same as that for the main meeting. \nFor more information about Intergroup click here: \nIntergroup Resource Page \nFor information about some of the specific positions click here: \nLocal service positions \nIn-person meeting at the Country Grocer Bowen Road community room at 1800 Dufferin Cres \nRemote meeting: \nZoom link\nPassword: Intergroup
URL:https://nanaimoaa.org/event/intergroup-meeting-sep-2025/
LOCATION:Coastal Support Services – PARKING & ENTRANCE IN BACK\, 2135 Bowen Road\, Nanaimo\, BC\, V9S1H8\, Canada
CATEGORIES:Intergroup
END:VEVENT
END:VCALENDAR