BEGIN:VCALENDAR
VERSION:2.0
PRODID:-//MIIS - ECPv6.2.6//NONSGML v1.0//EN
CALSCALE:GREGORIAN
METHOD:PUBLISH
X-WR-CALNAME:MIIS
X-ORIGINAL-URL:https://nanaimoaa.org
X-WR-CALDESC:Events for MIIS
REFRESH-INTERVAL;VALUE=DURATION:PT1H
X-Robots-Tag:noindex
X-PUBLISHED-TTL:PT1H
BEGIN:VTIMEZONE
TZID:America/Los_Angeles
BEGIN:DAYLIGHT
TZOFFSETFROM:-0800
TZOFFSETTO:-0700
TZNAME:PDT
DTSTART:20250309T100000
END:DAYLIGHT
BEGIN:STANDARD
TZOFFSETFROM:-0700
TZOFFSETTO:-0800
TZNAME:PST
DTSTART:20251102T090000
END:STANDARD
END:VTIMEZONE
BEGIN:VEVENT
DTSTART;TZID=America/Los_Angeles:20251224T130000
DTEND;TZID=America/Los_Angeles:20251225T140000
DTSTAMP:20260423T125549
CREATED:20241215T153307Z
LAST-MODIFIED:20251224T054800Z
UID:24001-1766581200-1766671200@nanaimoaa.org
SUMMARY:2025 Nanaimo AA Alcathon
DESCRIPTION:2025 Nanaimo Alcathon v2\nCome out and join in person or online for 24 hours of meetings\, food and fellowship. \nThe meeting schedules are available here:  Alcathon Meeting Page \nClick here for a printable poster: Alcathon Poster \nLog in via Zoom here:  Zoom Meeting \nZoom Meeting: https://us02web.zoom.us/j/3659402175 \nZoom passcode: 02092000
URL:https://nanaimoaa.org/event/2024-nanaimo-aa-alcathon/
LOCATION:Nanaimo Alano Club\, 321Wallace Street # 206\, Nanaimo\, BC\, V9S 5B6\, Canada
END:VEVENT
END:VCALENDAR