BEGIN:VCALENDAR
VERSION:2.0
PRODID:-//MIIS - ECPv6.2.6//NONSGML v1.0//EN
CALSCALE:GREGORIAN
METHOD:PUBLISH
X-WR-CALNAME:MIIS
X-ORIGINAL-URL:https://nanaimoaa.org
X-WR-CALDESC:Events for MIIS
REFRESH-INTERVAL;VALUE=DURATION:PT1H
X-Robots-Tag:noindex
X-PUBLISHED-TTL:PT1H
BEGIN:VTIMEZONE
TZID:America/Los_Angeles
BEGIN:DAYLIGHT
TZOFFSETFROM:-0800
TZOFFSETTO:-0700
TZNAME:PDT
DTSTART:20250309T100000
END:DAYLIGHT
BEGIN:STANDARD
TZOFFSETFROM:-0700
TZOFFSETTO:-0800
TZNAME:PST
DTSTART:20251102T090000
END:STANDARD
END:VTIMEZONE
BEGIN:VEVENT
DTSTART;TZID=America/Los_Angeles:20250919T170000
DTEND;TZID=America/Los_Angeles:20250921T130000
DTSTAMP:20260423T095900
CREATED:20250709T175330Z
LAST-MODIFIED:20250709T175654Z
UID:24657-1758301200-1758459600@nanaimoaa.org
SUMMARY:Port Alberni Live Easy But Think First Rally
DESCRIPTION:Port Alberni RallyPoster\nTickets: $40 Registration only\, $60 for Registration and Banquet \ne-transfer funds to: portalbernirally@gmail.com \nContacts:  celestegrirard@gmail.com or kgardner@shaw.ca
URL:https://nanaimoaa.org/event/port-alberni-live-easy-but-think-first-rally/
LOCATION:Port Alberni Kin Hut\, 4102 Hollywood Street\, Port Alberni\, BC\, V9Y 1S2\, Canada
END:VEVENT
END:VCALENDAR