BEGIN:VCALENDAR
VERSION:2.0
PRODID:-//MIIS - ECPv6.2.6//NONSGML v1.0//EN
CALSCALE:GREGORIAN
METHOD:PUBLISH
X-ORIGINAL-URL:https://nanaimoaa.org
X-WR-CALDESC:Events for MIIS
REFRESH-INTERVAL;VALUE=DURATION:PT1H
X-Robots-Tag:noindex
X-PUBLISHED-TTL:PT1H
BEGIN:VTIMEZONE
TZID:America/Los_Angeles
BEGIN:DAYLIGHT
TZOFFSETFROM:-0800
TZOFFSETTO:-0700
TZNAME:PDT
DTSTART:20250309T100000
END:DAYLIGHT
BEGIN:STANDARD
TZOFFSETFROM:-0700
TZOFFSETTO:-0800
TZNAME:PST
DTSTART:20251102T090000
END:STANDARD
END:VTIMEZONE
BEGIN:VEVENT
DTSTART;TZID=America/Los_Angeles:20250823T110000
DTEND;TZID=America/Los_Angeles:20250823T160000
DTSTAMP:20260424T005329
CREATED:20250816T131239Z
LAST-MODIFIED:20250816T131307Z
UID:24737-1755946800-1755964800@nanaimoaa.org
SUMMARY:2025 Beachcombers AA Rally
DESCRIPTION:One day rally at William Head Prison on August 23\, 2025 \nArea 79 Corrections Chair\, Chad P.\, will be attending. \nFlyer-2025-Beachcombers-Rally (1)\n 
URL:https://nanaimoaa.org/event/2025-beachcombers-aa-rally/
LOCATION:William Head Institution\, 6000 William Head Road\, Metchosin\, BC\, V9C 0B5\, Canada
END:VEVENT
END:VCALENDAR