BEGIN:VCALENDAR
VERSION:2.0
PRODID:-//MIIS - ECPv6.2.6//NONSGML v1.0//EN
CALSCALE:GREGORIAN
METHOD:PUBLISH
X-ORIGINAL-URL:https://nanaimoaa.org
X-WR-CALDESC:Events for MIIS
REFRESH-INTERVAL;VALUE=DURATION:PT1H
X-Robots-Tag:noindex
X-PUBLISHED-TTL:PT1H
BEGIN:VTIMEZONE
TZID:America/Los_Angeles
BEGIN:DAYLIGHT
TZOFFSETFROM:-0800
TZOFFSETTO:-0700
TZNAME:PDT
DTSTART:20250309T100000
END:DAYLIGHT
BEGIN:STANDARD
TZOFFSETFROM:-0700
TZOFFSETTO:-0800
TZNAME:PST
DTSTART:20251102T090000
END:STANDARD
END:VTIMEZONE
BEGIN:VEVENT
DTSTART;TZID=America/Los_Angeles:20250610T181500
DTEND;TZID=America/Los_Angeles:20250610T200000
DTSTAMP:20260424T020741
CREATED:20250422T190751Z
LAST-MODIFIED:20250422T190840Z
UID:24446-1749579300-1749585600@nanaimoaa.org
SUMMARY:Mid-Island Integroup Society Annual General Meeting
DESCRIPTION:Please join us for the annual general meeting where we will be holding elections for all of the open operating committee positions.  All Intergroup Reps have a vote and the more participation we have the better our recovery community is represented. \nIf you are not an Intergroup Rep you are still welcome to join\, ask questions or inquire about the open positions. \nThe meeting will be in person and on-line at Country Grocer Chase River. \nZoom link\nPassword: Intergroup
URL:https://nanaimoaa.org/event/mid-island-integroup-society-annual-general-meeting/
LOCATION:Country Grocer Chase River\, 82 Twelfth St\, Nanaimo\, BC\, V9R 6R6\, Canada
END:VEVENT
END:VCALENDAR