BEGIN:VCALENDAR
VERSION:2.0
PRODID:-//MIIS - ECPv6.2.6//NONSGML v1.0//EN
CALSCALE:GREGORIAN
METHOD:PUBLISH
X-WR-CALNAME:MIIS
X-ORIGINAL-URL:https://nanaimoaa.org
X-WR-CALDESC:Events for MIIS
REFRESH-INTERVAL;VALUE=DURATION:PT1H
X-Robots-Tag:noindex
X-PUBLISHED-TTL:PT1H
BEGIN:VTIMEZONE
TZID:America/Los_Angeles
BEGIN:DAYLIGHT
TZOFFSETFROM:-0800
TZOFFSETTO:-0700
TZNAME:PDT
DTSTART:20250309T100000
END:DAYLIGHT
BEGIN:STANDARD
TZOFFSETFROM:-0700
TZOFFSETTO:-0800
TZNAME:PST
DTSTART:20251102T090000
END:STANDARD
END:VTIMEZONE
BEGIN:VEVENT
DTSTART;TZID=America/Los_Angeles:20250601T130000
DTEND;TZID=America/Los_Angeles:20250601T150000
DTSTAMP:20260423T214549
CREATED:20250411T132423Z
LAST-MODIFIED:20250529T095157Z
UID:24432-1748782800-1748790000@nanaimoaa.org
SUMMARY:Nanaimo AA 2026 Rally Planning Meeting - June
DESCRIPTION:The Rally Committee will be meeting monthly on the first Sunday of the month to plan for th 2026 Rally.  There are plenty of committee chair\, co-chair and volunteer positions available. \nThe meetings are all 1pm & 3pm at the conference room at Country Grocer Chase Valley.  The future meeting schedule is as follows: \nJune 1 \nJuly/Aug – No meeting \nSept 7 \nOct 5 \nNov 2 \nDec 7 \nJan 4 \nJan 11 \nJan 18
URL:https://nanaimoaa.org/event/nanaimo-aa-2026-rallyplanning-meeting-jun/
LOCATION:Country Grocer Chase River\, 82 Twelfth St\, Nanaimo\, BC\, V9R 6R6\, Canada
END:VEVENT
BEGIN:VEVENT
DTSTART;TZID=America/Los_Angeles:20250601T150000
DTEND;TZID=America/Los_Angeles:20250601T170000
DTSTAMP:20260423T214549
CREATED:20250522T213538Z
LAST-MODIFIED:20250529T192814Z
UID:24525-1748790000-1748797200@nanaimoaa.org
SUMMARY:Area 79 Delegate Report
DESCRIPTION:We’re excited to welcome our Area Delegate Drew to District 7 for a special presentation and discussion! \n Date: June 1st\n Time: 3:00 – 5:00\n Location: Nanaimo Alano Club – 321 Wallace Street\, Nanaimo \nZoom Link: https://us04web.zoom.us/j/82166665997 \nPassword: Intergroup \nCome hear firsthand about the highlights and key takeaways from the General Service Conference—what’s happening in AA at the broader level\, what changes are being discussed\, and how our voices are being heard. \nThis is a unique opportunity to connect with the wider fellowship\, ask questions\, and carry the message of service back to your home groups. Whether you’re new to service or have been around for years\, this is for you. \nBring a friend\, bring your GSRs and Intergroup Reps\, and bring your curiosity. Let’s show our delegate a warm welcome and strong turnout!
URL:https://nanaimoaa.org/event/area-79-delegate-report/
LOCATION:Nanaimo Alano Club\, 321Wallace Street # 206\, Nanaimo\, BC\, V9S 5B6\, Canada
END:VEVENT
END:VCALENDAR