BEGIN:VCALENDAR
VERSION:2.0
PRODID:-//MIIS - ECPv6.2.6//NONSGML v1.0//EN
CALSCALE:GREGORIAN
METHOD:PUBLISH
X-WR-CALNAME:MIIS
X-ORIGINAL-URL:https://nanaimoaa.org
X-WR-CALDESC:Events for MIIS
REFRESH-INTERVAL;VALUE=DURATION:PT1H
X-Robots-Tag:noindex
X-PUBLISHED-TTL:PT1H
BEGIN:VTIMEZONE
TZID:America/Los_Angeles
BEGIN:DAYLIGHT
TZOFFSETFROM:-0800
TZOFFSETTO:-0700
TZNAME:PDT
DTSTART:20250309T100000
END:DAYLIGHT
BEGIN:STANDARD
TZOFFSETFROM:-0700
TZOFFSETTO:-0800
TZNAME:PST
DTSTART:20251102T090000
END:STANDARD
END:VTIMEZONE
BEGIN:VEVENT
DTSTART;VALUE=DATE:20250503
DTEND;VALUE=DATE:20250505
DTSTAMP:20260424T063638
CREATED:20250316T151238Z
LAST-MODIFIED:20250316T151731Z
UID:24401-1746230400-1746403199@nanaimoaa.org
SUMMARY:2025 Rally in the Valley
DESCRIPTION:May 3rd – 4th\, 2025 \nFilberg Center\, 411 Anderton Rd\, Courtney\, BC \nMeetings: \n\nAA Groups\nAlanon Participation\nWorkshop\n\nGuest Speakers: \n\nSharon G\nStephanie G\n\nCatered banquest\, countdown and music bingo with prizes \nTickets: \nFulll package includes: Banquest\, lunch and breakfast \nBefore April 18th: $50 Full Package \nAfter April 18th: $55 Full Package \nRegistration: $20 \nBreakfast only: $8 \nRegister online at www.comoxvalleyAA.ca \nClick HERE for a printable poster.
URL:https://nanaimoaa.org/event/2025-rally-in-the-valley/
LOCATION:Filberg Center\, 411 Anderton Rd\, Courtenay\, BC\, V9N 6C6\, Canada
END:VEVENT
END:VCALENDAR