BEGIN:VCALENDAR
VERSION:2.0
PRODID:-//MIIS - ECPv6.2.6//NONSGML v1.0//EN
CALSCALE:GREGORIAN
METHOD:PUBLISH
X-ORIGINAL-URL:https://nanaimoaa.org
X-WR-CALDESC:Events for MIIS
REFRESH-INTERVAL;VALUE=DURATION:PT1H
X-Robots-Tag:noindex
X-PUBLISHED-TTL:PT1H
BEGIN:VTIMEZONE
TZID:America/Los_Angeles
BEGIN:DAYLIGHT
TZOFFSETFROM:-0800
TZOFFSETTO:-0700
TZNAME:PDT
DTSTART:20250309T100000
END:DAYLIGHT
BEGIN:STANDARD
TZOFFSETFROM:-0700
TZOFFSETTO:-0800
TZNAME:PST
DTSTART:20251102T090000
END:STANDARD
END:VTIMEZONE
BEGIN:VEVENT
DTSTART;TZID=America/Los_Angeles:20250322T130000
DTEND;TZID=America/Los_Angeles:20250322T160000
DTSTAMP:20260425T082329
CREATED:20250219T140839Z
LAST-MODIFIED:20250219T141404Z
UID:24339-1742648400-1742659200@nanaimoaa.org
SUMMARY:District 6 Safety Workshop
DESCRIPTION:District 6 is hosting a Safety in AA workshop – All are welcome!\nDate: March 22nd 1-4pm (Potluck lunch 11:30)\nLocation:  Kin Hut –  4102 Hollywood St.\,  Port Alberni\nContact: (Jane)  yourownjane@yahoo.com
URL:https://nanaimoaa.org/event/district-6-safety-workshop/
LOCATION:Port Alberni Kin Hut\, 4102 Hollywood Street\, Port Alberni\, BC\, V9Y 1S2\, Canada
END:VEVENT
END:VCALENDAR