BEGIN:VCALENDAR
VERSION:2.0
PRODID:-//MIIS - ECPv6.2.6//NONSGML v1.0//EN
CALSCALE:GREGORIAN
METHOD:PUBLISH
X-WR-CALNAME:MIIS
X-ORIGINAL-URL:https://nanaimoaa.org
X-WR-CALDESC:Events for MIIS
REFRESH-INTERVAL;VALUE=DURATION:PT1H
X-Robots-Tag:noindex
X-PUBLISHED-TTL:PT1H
BEGIN:VTIMEZONE
TZID:America/Los_Angeles
BEGIN:DAYLIGHT
TZOFFSETFROM:-0800
TZOFFSETTO:-0700
TZNAME:PDT
DTSTART:20250309T100000
END:DAYLIGHT
BEGIN:STANDARD
TZOFFSETFROM:-0700
TZOFFSETTO:-0800
TZNAME:PST
DTSTART:20251102T090000
END:STANDARD
END:VTIMEZONE
BEGIN:VEVENT
DTSTART;TZID=America/Los_Angeles:20250124T170000
DTEND;TZID=America/Los_Angeles:20250124T183000
DTSTAMP:20260425T145407
CREATED:20241208T154014Z
LAST-MODIFIED:20241208T154014Z
UID:23913-1737738000-1737743400@nanaimoaa.org
SUMMARY:Nanaimo AA 2025 Rally - Friday Night Pot Luck
DESCRIPTION:Join us for a Pot Luck dinner to help kick off the 2025 Rally. \nThe Rally Committee will provide a selection of pizza\, cesear salad and sliced ham\, the rest is up to you! \nWe had a great assortment of hot and cold dishes and amazing desserts last year.  Please bring your favorite dish and the kitchen is available with lots of fridge room and ovens to reheat dishes. \nIf you would like to share what you are brining to help ensure a diverse selection of dishes please click here to sing up: Pot Luck Sign Up Page \nFor more rally info check out the website: www.nanaimoaarally.com. \n 
URL:https://nanaimoaa.org/event/nanaimo-aa-2025-rally-friday-night-pot-luck/
LOCATION:Beban Park Social Centre\, 2300 Bowen Road\, Nanaimo\, BC\, V9T 3K7\, Canada
END:VEVENT
BEGIN:VEVENT
DTSTART;TZID=America/Los_Angeles:20250124T210000
DTEND;TZID=America/Los_Angeles:20250124T220000
DTSTAMP:20260425T145407
CREATED:20241208T154405Z
LAST-MODIFIED:20241208T154405Z
UID:23915-1737752400-1737756000@nanaimoaa.org
SUMMARY:Nanaimo 2025 AA Rally - Ice Cream Social
DESCRIPTION:After a hearty pot luck dinner and an amazing speaker\, cap off the night with our Ice Cream Social. \nLast year sold out so we are prepared with more ice cream\, more cones\, and more toppings this year!
URL:https://nanaimoaa.org/event/nanaimo-2025-aa-rally-ice-cream-social/
LOCATION:Beban Park Social Centre\, 2300 Bowen Road\, Nanaimo\, BC\, V9T 3K7\, Canada
END:VEVENT
END:VCALENDAR